BEGIN:VCALENDAR
VERSION:2.0
PRODID:-//Alabama Water Watch - ECPv6.15.20//NONSGML v1.0//EN
CALSCALE:GREGORIAN
METHOD:PUBLISH
X-WR-CALNAME:Alabama Water Watch
X-ORIGINAL-URL:https://aaes.auburn.edu/alabamawaterwatch
X-WR-CALDESC:Events for Alabama Water Watch
REFRESH-INTERVAL;VALUE=DURATION:PT1H
X-Robots-Tag:noindex
X-PUBLISHED-TTL:PT1H
BEGIN:VTIMEZONE
TZID:America/Chicago
BEGIN:DAYLIGHT
TZOFFSETFROM:-0600
TZOFFSETTO:-0500
TZNAME:CDT
DTSTART:20170312T080000
END:DAYLIGHT
BEGIN:STANDARD
TZOFFSETFROM:-0500
TZOFFSETTO:-0600
TZNAME:CST
DTSTART:20171105T070000
END:STANDARD
BEGIN:DAYLIGHT
TZOFFSETFROM:-0600
TZOFFSETTO:-0500
TZNAME:CDT
DTSTART:20180311T080000
END:DAYLIGHT
BEGIN:STANDARD
TZOFFSETFROM:-0500
TZOFFSETTO:-0600
TZNAME:CST
DTSTART:20181104T070000
END:STANDARD
BEGIN:DAYLIGHT
TZOFFSETFROM:-0600
TZOFFSETTO:-0500
TZNAME:CDT
DTSTART:20190310T080000
END:DAYLIGHT
BEGIN:STANDARD
TZOFFSETFROM:-0500
TZOFFSETTO:-0600
TZNAME:CST
DTSTART:20191103T070000
END:STANDARD
END:VTIMEZONE
BEGIN:VEVENT
DTSTART;TZID=America/Chicago:20180802T090000
DTEND;TZID=America/Chicago:20180802T150000
DTSTAMP:20260426T004713
CREATED:20180730T140636Z
LAST-MODIFIED:20180730T140636Z
UID:3947-1533200400-1533222000@aaes.auburn.edu
SUMMARY:Water Chemistry Monitoring Workshop - Baldwin County AL
DESCRIPTION:Trainer: J. McGonigal and M. Shelton \nWorkshop Contact Email: jmcgonigal@cityoffoley.org \nWorkshop Contact Phone: 251-923-4267 ext 883 \nWorkshop Location: \nGraham Creek Nature Preserve \n23030 Wolf Bay Dr \nFoley\, AL 36535 \nDescription of Workshop:  Test physical and chemical characteristics of water to identify pollution sources and long-term trends in water quality. Six variables are measured with a customized test kit\, and results can be compared with water quality standards that define conditions for healthy waterbodies. We will be working outside at kayak launch\, so please bring sunscreen\, insect repellent and cooler for drinks and lunch (that participants bring) are recommended.  Please wear clothing that is sweat wicking and a hat/sunglasses.
URL:https://aaes.auburn.edu/alabamawaterwatch/event/water-chemistry-monitoring-workshop-baldwin-county-al-2/
LOCATION:Graham Creek Nature Preserve – Kayak Launch\, Wolf Bay Dr\, Foley\, AL\, 36535\, United States
GEO:30.3485131;-87.6194847
X-APPLE-STRUCTURED-LOCATION;VALUE=URI;X-ADDRESS=Graham Creek Nature Preserve – Kayak Launch Wolf Bay Dr Foley AL 36535 United States;X-APPLE-RADIUS=500;X-TITLE=Wolf Bay Dr:geo:-87.6194847,30.3485131
END:VEVENT
BEGIN:VEVENT
DTSTART;TZID=America/Chicago:20180803T170000
DTEND;TZID=America/Chicago:20180803T200000
DTSTAMP:20260426T004713
CREATED:20180516T164346Z
LAST-MODIFIED:20180516T164346Z
UID:3628-1533315600-1533326400@aaes.auburn.edu
SUMMARY:Bacteriological Monitoring Workshop - Lee County\, AL
DESCRIPTION:Trainers: TBD \nWorkshop Contact Phone: 334-844-4785 \nWorkshop Contact Email: awwprog@auburn.edu \nWorkshop Location: \nCASIC Building \n559 Devall Drive \nAuburn\, AL 36849 \nWorkshop Description: Learn how to detect levels of E.coli and other coliform bacteria in water as indicators of contamination.
URL:https://aaes.auburn.edu/alabamawaterwatch/event/bacteriological-monitoring-workshop-lee-county-al-5/
LOCATION:Alabama Water Watch\, 559 Devall Drive\, Auburn\, AL\, 36849\, United States
GEO:32.5856828;-85.492881
X-APPLE-STRUCTURED-LOCATION;VALUE=URI;X-ADDRESS=Alabama Water Watch 559 Devall Drive Auburn AL 36849 United States;X-APPLE-RADIUS=500;X-TITLE=559 Devall Drive:geo:-85.492881,32.5856828
END:VEVENT
BEGIN:VEVENT
DTSTART;TZID=America/Chicago:20180804T090000
DTEND;TZID=America/Chicago:20180804T160000
DTSTAMP:20260426T004713
CREATED:20180516T164642Z
LAST-MODIFIED:20180516T164642Z
UID:3634-1533373200-1533398400@aaes.auburn.edu
SUMMARY:Water Chemistry Monitoring Workshop - Lee County\, AL
DESCRIPTION:Trainers: TBD \nWorkshop Contact Phone: 334-844-4785 \nWorkshop Contact Email: awwprog@auburn.edu \nWorkshop Location: \nCASIC Building \n559 Devall Drive \nAuburn\, AL 36849 \nWorkshop Description: Test physical and chemical characteristics of water to determine pollution sources and long-term trends in water quality. Six variables are measured with a customized test kit\, and results can be compared with water quality standards that define conditions for healthy waterbodies.
URL:https://aaes.auburn.edu/alabamawaterwatch/event/water-chemistry-monitoring-workshop-lee-county-al-6/
LOCATION:Alabama Water Watch\, 559 Devall Drive\, Auburn\, AL\, 36849\, United States
GEO:32.5856828;-85.492881
X-APPLE-STRUCTURED-LOCATION;VALUE=URI;X-ADDRESS=Alabama Water Watch 559 Devall Drive Auburn AL 36849 United States;X-APPLE-RADIUS=500;X-TITLE=559 Devall Drive:geo:-85.492881,32.5856828
END:VEVENT
BEGIN:VEVENT
DTSTART;TZID=America/Chicago:20180818T090000
DTEND;TZID=America/Chicago:20180818T160000
DTSTAMP:20260426T004713
CREATED:20180625T103343Z
LAST-MODIFIED:20180625T103343Z
UID:3854-1534582800-1534608000@aaes.auburn.edu
SUMMARY:Water Chemistry Monitoring Workshop - Mobile Co\, AL
DESCRIPTION:Trainers: Jason Kudulis and Mimi Fearn\n\nWorkshop Contact Phone: 251-459-9813 \nWorkshop Contact Email: jwilson@mobilebaynep.com \nWorkshop Location:  \nUniversity of South Alabama Life Sciences Building Rm 0018 \n5871 USA Drive N \nMobile\, AL 36688 \nWorkshop Description: Test physical and chemical characteristics of water to determine pollution sources and long-term trends in water quality. Six variables are measured with a customized test kit\, and results can be compared with water quality standards that define conditions for healthy waterbodies.
URL:https://aaes.auburn.edu/alabamawaterwatch/event/water-chemistry-monitoring-workshop-mobile-co-al/
LOCATION:University of South AL\, 5871 USA Dr. N\, Mobile\, AL\, 36688\, United States
GEO:30.697959;-88.183385
X-APPLE-STRUCTURED-LOCATION;VALUE=URI;X-ADDRESS=University of South AL 5871 USA Dr. N Mobile AL 36688 United States;X-APPLE-RADIUS=500;X-TITLE=5871 USA Dr. N:geo:-88.183385,30.697959
END:VEVENT
BEGIN:VEVENT
DTSTART;TZID=America/Chicago:20180821T093000
DTEND;TZID=America/Chicago:20180821T110000
DTSTAMP:20260426T004713
CREATED:20180717T155801Z
LAST-MODIFIED:20180717T155801Z
UID:3925-1534843800-1534849200@aaes.auburn.edu
SUMMARY:Alabama Rivers Book Talk - Stillwaters Clubhouse
DESCRIPTION:Saturday\, August 25\, 2018 \n9:00 AM – 11:00 AM \nStillwaters Clubhouse \n797 Moonbrook Drive \nDadeville\, AL 36853
URL:https://aaes.auburn.edu/alabamawaterwatch/event/alabama-rivers-book-talk-stillwaters-clubhouse/
END:VEVENT
END:VCALENDAR