BEGIN:VCALENDAR
VERSION:2.0
PRODID:-//Alabama Water Watch - ECPv6.15.20//NONSGML v1.0//EN
CALSCALE:GREGORIAN
METHOD:PUBLISH
X-WR-CALNAME:Alabama Water Watch
X-ORIGINAL-URL:https://aaes.auburn.edu/alabamawaterwatch
X-WR-CALDESC:Events for Alabama Water Watch
REFRESH-INTERVAL;VALUE=DURATION:PT1H
X-Robots-Tag:noindex
X-PUBLISHED-TTL:PT1H
BEGIN:VTIMEZONE
TZID:UTC
BEGIN:STANDARD
TZOFFSETFROM:+0000
TZOFFSETTO:+0000
TZNAME:UTC
DTSTART:20240101T000000
END:STANDARD
END:VTIMEZONE
BEGIN:VEVENT
DTSTART;TZID=UTC:20250207T090000
DTEND;TZID=UTC:20250207T160000
DTSTAMP:20260423T115743
CREATED:20240925T174840Z
LAST-MODIFIED:20250108T195512Z
UID:6656-1738918800-1738944000@aaes.auburn.edu
SUMMARY:AWW Bacteriological & Water Chemistry Monitoring Training - Guntersville
DESCRIPTION:Online registration has met maximum capacity and has closed. Please contact awwprog@auburn.edu to be put on the waitlist.  \nAlabama Water Watch Bacteriological and Water Chemistry Monitoring Training – Guntersville \nTraining Description: Become a certified Volunteer Monitor through this hybrid (online and in-person) training opportunity! Available certifications include AWW Water Chemistry Monitoring and Bacteriological Monitoring. You must complete each of the steps outlined below to receive your monitoring certification. \nWhat is Water Chemistry Monitoring?  \nWhat is Bacteriological Monitoring?  \nProfessional Development Hours will be available through PowerSchool for educators who complete training. For more information\, please email awwvolunteers@auburn.edu. \nFollow these steps to get started: \n1.  Register for training through this form by January 14th\, 2025. \n2.  Select the monitoring type(s) for which you would like certification through this form. \nOn January 14th \nParticipate in the Kick-Off Zoom from 12-1 pm. This is not required for certification but will help you navigate the training process and meet AWW Staff. \n\nUse the link and instructions you receive via email following the Kick-Off Zoom to enroll in the Online Courses required for the certification type(s) you requested.\n\nBy Midnight on February 5th \nComplete the self-paced\, online coursework for the monitoring type(s) of interest. \n\nIntroduction to AL Water Watch – This course is required for all monitoring types and must be completed to unlock all other AWW Online Courses. (1 hour)\nBacteriological Monitoring Course (90 minutes)\nWater Chemistry Monitoring Course (2 hours)\n\nOn February 7th\nAttend the in-person Field Day at the RSVP Marshall County Office in Guntersville\, AL where you will demonstrate your ability to conduct monitoring tests under the observation of an AWW Trainer. Participants will be expected to follow CDC guidelines regarding in-person gatherings during the training. \nField Day Schedule and Venue: To Be Determined\n\nYou will receive additional details for each of these steps closer to the workshop date. \nOnly your name\, email\, phone number\, and mailing address are required to register for this event. We ask for optional information so we can better understand our effectiveness in serving all Alabama citizens and for reporting general\, anonymous statistics to our federal and state funders. We do not share any specific information you provide. \nThe Alabama Cooperative Extension System (Alabama A&M University and Auburn University) is an equal opportunity educator and employer. Everyone is welcome! Please let us know if you have accessibility needs. \nContact AWW with any questions: 1-888-844-4785 or awwprog@auburn.edu.
URL:https://aaes.auburn.edu/alabamawaterwatch/event/aww-bacteriological-water-chemistry-monitoring-training-guntersville/
LOCATION:Marshall County RSVP\, 19272 US HWY 431\, Guntersville\, AL\, 35976\, United States
GEO:34.339667;-86.3095513
X-APPLE-STRUCTURED-LOCATION;VALUE=URI;X-ADDRESS=Marshall County RSVP 19272 US HWY 431 Guntersville AL 35976 United States;X-APPLE-RADIUS=500;X-TITLE=19272 US HWY 431:geo:-86.3095513,34.339667
END:VEVENT
END:VCALENDAR