BEGIN:VCALENDAR
VERSION:2.0
PRODID:-//Alabama Water Watch - ECPv6.15.20//NONSGML v1.0//EN
CALSCALE:GREGORIAN
METHOD:PUBLISH
X-WR-CALNAME:Alabama Water Watch
X-ORIGINAL-URL:https://aaes.auburn.edu/alabamawaterwatch
X-WR-CALDESC:Events for Alabama Water Watch
REFRESH-INTERVAL;VALUE=DURATION:PT1H
X-Robots-Tag:noindex
X-PUBLISHED-TTL:PT1H
BEGIN:VTIMEZONE
TZID:UTC
BEGIN:STANDARD
TZOFFSETFROM:+0000
TZOFFSETTO:+0000
TZNAME:UTC
DTSTART:20230101T000000
END:STANDARD
END:VTIMEZONE
BEGIN:VEVENT
DTSTART;TZID=UTC:20240411T120000
DTEND;TZID=UTC:20240411T130000
DTSTAMP:20260423T184729
CREATED:20240227T161148Z
LAST-MODIFIED:20240227T161350Z
UID:6510-1712836800-1712840400@aaes.auburn.edu
SUMMARY:Virtual Training:  Adding aquatic macroinvertebrate observations to iNaturalist
DESCRIPTION:THIS TRAINING IS NOT HOSTED BY ALABAMA WATER WATCH.  \nWhen: Thursday\, April 11 @ 12pm CDT \nWhere: Zoom \nEvent Host: National Geographic Society MacroBlitz \nEvent Website: https://www.macroblitz.org/ \nAquatic macroinvertebrates are small (but not microscopic) water-dwelling critters that are important to scientists\, natural resource managers\, anglers\, conservationists\, outdoor recreationists\, hikers\, educators\, birds\, fish\, frogs\, raccoons\, and others. \n​MacroBlitz inspires and empowers people to find and photograph aquatic macroinvertbrates and upload these photos to iNaturalist for science and for learning. \nCheck website for registration and details.
URL:https://aaes.auburn.edu/alabamawaterwatch/event/virtual-training-adding-aquatic-macroinvertebrate-observations-to-inaturalist/
END:VEVENT
END:VCALENDAR