BEGIN:VCALENDAR
VERSION:2.0
PRODID:-//Alabama Water Watch - ECPv6.15.20//NONSGML v1.0//EN
CALSCALE:GREGORIAN
METHOD:PUBLISH
X-WR-CALNAME:Alabama Water Watch
X-ORIGINAL-URL:https://aaes.auburn.edu/alabamawaterwatch
X-WR-CALDESC:Events for Alabama Water Watch
REFRESH-INTERVAL;VALUE=DURATION:PT1H
X-Robots-Tag:noindex
X-PUBLISHED-TTL:PT1H
BEGIN:VTIMEZONE
TZID:UTC
BEGIN:STANDARD
TZOFFSETFROM:+0000
TZOFFSETTO:+0000
TZNAME:UTC
DTSTART:20230101T000000
END:STANDARD
END:VTIMEZONE
BEGIN:VEVENT
DTSTART;TZID=UTC:20240217T090000
DTEND;TZID=UTC:20240217T150000
DTSTAMP:20260422T080722
CREATED:20240116T171352Z
LAST-MODIFIED:20240130T160843Z
UID:6466-1708160400-1708182000@aaes.auburn.edu
SUMMARY:AWW Monitoring Training - Fairhope
DESCRIPTION:Alabama Water Watch Monitoring Training – Weeks Bay NERR \nOnline registration has met maximum capacity and has closed. Please contact awwprog@auburn.edu to be put on the waitlist.  \nTraining Description: Become a certified Volunteer Monitor through this hybrid (online and in-person) training opportunity! Available certifications include AWW Water Chemistry Monitoring and Bacteriological Monitoring and recertification. You must complete each of the steps outlined below to receive your monitoring certification. \nProfessional Development Hours are available through PowerSchool for educators who complete training. For more information\, please email awwvolunteers@auburn.edu. \nFollow these steps to get started: \n1.  Register for training through this form by January 30th\, 2024. \n2.  Select the monitoring type(s) for which you would like certification through this form. \nBy Midnight on February 15th \nComplete the self-paced\, online coursework for the monitoring type(s) of interest. \n\nIntroduction to AL Water Watch – This course is required for all monitoring types and must be completed to unlock all other AWW Online Courses. (1 hour)\nBacteriological Monitoring Course (90 minutes)\nWater Chemistry Monitoring Course (2 hours)\n\nOn February 17th\nAttend the in-person Field Day at Weeks Bay National Estuarine Reserve in Fairhope\, AL where you will demonstrate your ability to conduct monitoring tests under the observation of an AWW Trainer. Participants will be expected to follow CDC guidelines regarding in-person gatherings during the training. \nWeeks Bay National Estuarine Reserve\nTonsmeire Resource Center\n11525 US-98\nFairhope\, AL 36532 \nField Day Schedule: 9am-3:00pm\n8:45 am Check-In for Water Chemistry Monitoring Session\n9:00 am Water Chemistry Monitoring Session\n12:00 pm Lunch Break\n12:45 pm Check-In for Bacteriological Monitoring Session\n1:00 pm Bacteriological Monitoring Session\n3:00 pm Adjourn \nYou will receive additional details for each of these steps closer to the workshop date. \nOnly your name\, email\, phone number\, and mailing address are required to register for this event. We ask for optional information so we can better understand our effectiveness in serving all Alabama citizens and for reporting general\, anonymous statistics to our federal and state funders. We do not share any specific information you provide. \nThe Alabama Cooperative Extension System (Alabama A&M University and Auburn University) is an equal opportunity educator and employer. Everyone is welcome! Please let us know if you have accessibility needs. \nContact AWW with any questions: 1-888-844-4785 or awwprog@auburn.edu.
URL:https://aaes.auburn.edu/alabamawaterwatch/event/aww-monitoring-training-fairhope-2/
LOCATION:Weeks Bay National Estuarine Research Reserve Tonsmeire Resource Center\, 11525 US Highway 98\, Fairhope\, AL\, 36532\, United States
GEO:30.4229578;-87.9090338
X-APPLE-STRUCTURED-LOCATION;VALUE=URI;X-ADDRESS=Weeks Bay National Estuarine Research Reserve Tonsmeire Resource Center 11525 US Highway 98 Fairhope AL 36532 United States;X-APPLE-RADIUS=500;X-TITLE=11525 US Highway 98:geo:-87.9090338,30.4229578
END:VEVENT
END:VCALENDAR