BEGIN:VCALENDAR
VERSION:2.0
PRODID:-//Alabama Water Watch - ECPv6.15.20//NONSGML v1.0//EN
CALSCALE:GREGORIAN
METHOD:PUBLISH
X-WR-CALNAME:Alabama Water Watch
X-ORIGINAL-URL:https://aaes.auburn.edu/alabamawaterwatch
X-WR-CALDESC:Events for Alabama Water Watch
REFRESH-INTERVAL;VALUE=DURATION:PT1H
X-Robots-Tag:noindex
X-PUBLISHED-TTL:PT1H
BEGIN:VTIMEZONE
TZID:America/Chicago
BEGIN:DAYLIGHT
TZOFFSETFROM:-0600
TZOFFSETTO:-0500
TZNAME:CDT
DTSTART:20190310T080000
END:DAYLIGHT
BEGIN:STANDARD
TZOFFSETFROM:-0500
TZOFFSETTO:-0600
TZNAME:CST
DTSTART:20191103T070000
END:STANDARD
BEGIN:DAYLIGHT
TZOFFSETFROM:-0600
TZOFFSETTO:-0500
TZNAME:CDT
DTSTART:20200308T080000
END:DAYLIGHT
BEGIN:STANDARD
TZOFFSETFROM:-0500
TZOFFSETTO:-0600
TZNAME:CST
DTSTART:20201101T070000
END:STANDARD
BEGIN:DAYLIGHT
TZOFFSETFROM:-0600
TZOFFSETTO:-0500
TZNAME:CDT
DTSTART:20210314T080000
END:DAYLIGHT
BEGIN:STANDARD
TZOFFSETFROM:-0500
TZOFFSETTO:-0600
TZNAME:CST
DTSTART:20211107T070000
END:STANDARD
END:VTIMEZONE
BEGIN:VEVENT
DTSTART;TZID=America/Chicago:20200313T110000
DTEND;TZID=America/Chicago:20200313T140000
DTSTAMP:20260426T022340
CREATED:20200207T094353Z
LAST-MODIFIED:20200207T094353Z
UID:5077-1584097200-1584108000@aaes.auburn.edu
SUMMARY:Bacteriological Monitoring Workshop - Winston County
DESCRIPTION:THE TIME AND LOCATION FOR THIS WORKSHOP HAS CHANGED. PLEASE CONTACT ALABAMA WATER WATCH AT 334-844-4785 OR awwprog@auburn.edu FOR DETAILS. \nTrainers: Sergio RuizCordova and Sydney Smith \nWorkshop Contact Email: awwprog@auburn.edu \nWorkshop Contact Phone: 334-844-4785 \nWorkshop Location:  \nSmith Lake Civic Association \n2155 County Road 43 \nJasper\, AL 35504 \nWorkshop Description: Become a certified volunteer water quality monitor! Learn how to detect levels of E.coli and other coliform bacteria in water as indicators of contamination. Determine if water meets water quality standards for drinking\, swimming\, and aquatic life. \nAll activities will take place indoors.
URL:https://aaes.auburn.edu/alabamawaterwatch/event/bacteriological-monitoring-workshop-winston-county/
LOCATION:AL\, United States
END:VEVENT
END:VCALENDAR