BEGIN:VCALENDAR
VERSION:2.0
PRODID:-//Alabama Water Watch - ECPv6.15.20//NONSGML v1.0//EN
CALSCALE:GREGORIAN
METHOD:PUBLISH
X-WR-CALNAME:Alabama Water Watch
X-ORIGINAL-URL:https://aaes.auburn.edu/alabamawaterwatch
X-WR-CALDESC:Events for Alabama Water Watch
REFRESH-INTERVAL;VALUE=DURATION:PT1H
X-Robots-Tag:noindex
X-PUBLISHED-TTL:PT1H
BEGIN:VTIMEZONE
TZID:America/Chicago
BEGIN:DAYLIGHT
TZOFFSETFROM:-0600
TZOFFSETTO:-0500
TZNAME:CDT
DTSTART:20180311T080000
END:DAYLIGHT
BEGIN:STANDARD
TZOFFSETFROM:-0500
TZOFFSETTO:-0600
TZNAME:CST
DTSTART:20181104T070000
END:STANDARD
BEGIN:DAYLIGHT
TZOFFSETFROM:-0600
TZOFFSETTO:-0500
TZNAME:CDT
DTSTART:20190310T080000
END:DAYLIGHT
BEGIN:STANDARD
TZOFFSETFROM:-0500
TZOFFSETTO:-0600
TZNAME:CST
DTSTART:20191103T070000
END:STANDARD
BEGIN:DAYLIGHT
TZOFFSETFROM:-0600
TZOFFSETTO:-0500
TZNAME:CDT
DTSTART:20200308T080000
END:DAYLIGHT
BEGIN:STANDARD
TZOFFSETFROM:-0500
TZOFFSETTO:-0600
TZNAME:CST
DTSTART:20201101T070000
END:STANDARD
END:VTIMEZONE
BEGIN:VEVENT
DTSTART;TZID=America/Chicago:20191112T083000
DTEND;TZID=America/Chicago:20191112T153000
DTSTAMP:20260424T072828
CREATED:20190909T144443Z
LAST-MODIFIED:20190909T144443Z
UID:4796-1573547400-1573572600@aaes.auburn.edu
SUMMARY:Water Chemistry Monitoring Workshop - Birmingham Zoo
DESCRIPTION:Trainers: Hana Berres and Flo Peters  \nWorkshop Contact Email: (Hana) hana.berres@jccal.org and (Flo) florencepeters42@outlook.com  \nWorkshop Contact Phone: 205-223-9261  \nWorkshop Location:   \nBirmingham Zoo Learning Center (Near New Front Entrance)  \n2360 Cahaba Rd  \nBirmingham\, AL 35223  \nWorkshop Description: Become a certified volunteer water quality monitor! Test physical and chemical characteristics of water to determine pollution sources and long-term trends in water quality. Six variables are measured with a customized test kit\, and results can be compared with water quality standards that define conditions for healthy waterbodies.  \nPlease bring a sack lunch and a water bottle\, as there will be limited time to go out and get lunch elsewhere. 
URL:https://aaes.auburn.edu/alabamawaterwatch/event/water-chemistry-monitoring-workshop-birmingham-zoo-2/
LOCATION:Birmingham Zoo
GEO:33.4867334;-86.7789473
END:VEVENT
END:VCALENDAR