BEGIN:VCALENDAR
VERSION:2.0
PRODID:-//Alabama Water Watch - ECPv6.15.20//NONSGML v1.0//EN
CALSCALE:GREGORIAN
METHOD:PUBLISH
X-WR-CALNAME:Alabama Water Watch
X-ORIGINAL-URL:https://aaes.auburn.edu/alabamawaterwatch
X-WR-CALDESC:Events for Alabama Water Watch
REFRESH-INTERVAL;VALUE=DURATION:PT1H
X-Robots-Tag:noindex
X-PUBLISHED-TTL:PT1H
BEGIN:VTIMEZONE
TZID:America/Chicago
BEGIN:DAYLIGHT
TZOFFSETFROM:-0600
TZOFFSETTO:-0500
TZNAME:CDT
DTSTART:20180311T080000
END:DAYLIGHT
BEGIN:STANDARD
TZOFFSETFROM:-0500
TZOFFSETTO:-0600
TZNAME:CST
DTSTART:20181104T070000
END:STANDARD
BEGIN:DAYLIGHT
TZOFFSETFROM:-0600
TZOFFSETTO:-0500
TZNAME:CDT
DTSTART:20190310T080000
END:DAYLIGHT
BEGIN:STANDARD
TZOFFSETFROM:-0500
TZOFFSETTO:-0600
TZNAME:CST
DTSTART:20191103T070000
END:STANDARD
BEGIN:DAYLIGHT
TZOFFSETFROM:-0600
TZOFFSETTO:-0500
TZNAME:CDT
DTSTART:20200308T080000
END:DAYLIGHT
BEGIN:STANDARD
TZOFFSETFROM:-0500
TZOFFSETTO:-0600
TZNAME:CST
DTSTART:20201101T070000
END:STANDARD
END:VTIMEZONE
BEGIN:VEVENT
DTSTART;VALUE=DATE:20190413
DTEND;VALUE=DATE:20190414
DTSTAMP:20260422T225323
CREATED:20190204T135155Z
LAST-MODIFIED:20190204T135155Z
UID:4238-1555113600-1555199999@aaes.auburn.edu
SUMMARY:Alabama Book Festival
DESCRIPTION:Dr. Bill Deutsch will be on the panel of authors at this year’s Alabama Book Festival! He will talk about his new book\, Alabama Rivers\, A Celebration and Challenge.  \nFestival activities include panels with Alabama-native authors\, vendors\, exhibitors\, and book signings. Check out the event website for more information! \nhttp://www.alabamabookfestival.org/welcome.html \nThis event is not hosted by Alabama Water Watch.
URL:https://aaes.auburn.edu/alabamawaterwatch/event/alabama-book-festival/
LOCATION:Old Alabama Town\, 301 Columbus Street\, Montgomery\, AL\, 36104\, United States
END:VEVENT
BEGIN:VEVENT
DTSTART;TZID=America/Chicago:20190413T093000
DTEND;TZID=America/Chicago:20190413T143000
DTSTAMP:20260422T225323
CREATED:20190204T101428Z
LAST-MODIFIED:20190204T101428Z
UID:4235-1555147800-1555165800@aaes.auburn.edu
SUMMARY:Water Chemistry Monitoring Workshop - St. Clair County
DESCRIPTION:Trainer: Linda Ruethemann \nWorkshop Contact: Isabella Trussell \nWorkshop Contact Email: itrussell@aol.com \nWorkshop Contact Phone: 205-884-4169 \nWorkshop Location:  \nLakeside Landing Conference Room \n4600 Martin St. South \nCropwell\, AL 35054 \nWorkshop Description: Test physical and chemical characteristics of water to determine pollution sources and long-term trends in water quality. Six variables are measured with a customized test kit\, and results can be compared with water quality standards that define conditions for healthy waterbodies. \nMessage from the Trainer: Bring a sack lunch (drinks provided). Wear sunscreen and shoes that can get wet and muddy during the outdoor portion of the training. A hat or visor would be handy as sunglasses are not worn during practice tests.
URL:https://aaes.auburn.edu/alabamawaterwatch/event/water-chemistry-monitoring-workshop-st-claire-county/
LOCATION:Lakeside Landing Marina Conference Room\, 4600 Martin St. South\, Cropwell\, AL\, 35054\, United States
GEO:33.5281044;-86.2916547
X-APPLE-STRUCTURED-LOCATION;VALUE=URI;X-ADDRESS=Lakeside Landing Marina Conference Room 4600 Martin St. South Cropwell AL 35054 United States;X-APPLE-RADIUS=500;X-TITLE=4600 Martin St. South:geo:-86.2916547,33.5281044
END:VEVENT
END:VCALENDAR