BEGIN:VCALENDAR
VERSION:2.0
PRODID:-//Alabama Water Watch - ECPv6.15.20//NONSGML v1.0//EN
CALSCALE:GREGORIAN
METHOD:PUBLISH
X-WR-CALNAME:Alabama Water Watch
X-ORIGINAL-URL:https://aaes.auburn.edu/alabamawaterwatch
X-WR-CALDESC:Events for Alabama Water Watch
REFRESH-INTERVAL;VALUE=DURATION:PT1H
X-Robots-Tag:noindex
X-PUBLISHED-TTL:PT1H
BEGIN:VTIMEZONE
TZID:America/Chicago
BEGIN:DAYLIGHT
TZOFFSETFROM:-0600
TZOFFSETTO:-0500
TZNAME:CDT
DTSTART:20180311T080000
END:DAYLIGHT
BEGIN:STANDARD
TZOFFSETFROM:-0500
TZOFFSETTO:-0600
TZNAME:CST
DTSTART:20181104T070000
END:STANDARD
BEGIN:DAYLIGHT
TZOFFSETFROM:-0600
TZOFFSETTO:-0500
TZNAME:CDT
DTSTART:20190310T080000
END:DAYLIGHT
BEGIN:STANDARD
TZOFFSETFROM:-0500
TZOFFSETTO:-0600
TZNAME:CST
DTSTART:20191103T070000
END:STANDARD
BEGIN:DAYLIGHT
TZOFFSETFROM:-0600
TZOFFSETTO:-0500
TZNAME:CDT
DTSTART:20200308T080000
END:DAYLIGHT
BEGIN:STANDARD
TZOFFSETFROM:-0500
TZOFFSETTO:-0600
TZNAME:CST
DTSTART:20201101T070000
END:STANDARD
END:VTIMEZONE
BEGIN:VEVENT
DTSTART;TZID=America/Chicago:20190405T170000
DTEND;TZID=America/Chicago:20190405T200000
DTSTAMP:20260421T082454
CREATED:20181120T112057Z
LAST-MODIFIED:20181120T112057Z
UID:4080-1554483600-1554494400@aaes.auburn.edu
SUMMARY:Bacteriological Monitoring Workshop - Lee Co\, AL
DESCRIPTION:Trainers: TBD \nWorkshop Contact Email: awwprog@auburn.edu \nWorkshop Contact Phone: 334-844-4785 \nWorkshop Location:  \nCASIC Building \n559 Devall Drive \nAuburn\, AL 36849 \nWorkshop Description: Detect levels of E.coli and other coliform bacteria in water as indicators of contamination. Determine if water is safe for drinking\, swimming and aquatic life.
URL:https://aaes.auburn.edu/alabamawaterwatch/event/bacteriological-monitoring-workshop-lee-co-al-2/
LOCATION:Alabama Water Watch\, 559 Devall Drive\, Auburn\, AL\, 36849\, United States
GEO:32.5856828;-85.492881
X-APPLE-STRUCTURED-LOCATION;VALUE=URI;X-ADDRESS=Alabama Water Watch 559 Devall Drive Auburn AL 36849 United States;X-APPLE-RADIUS=500;X-TITLE=559 Devall Drive:geo:-85.492881,32.5856828
END:VEVENT
END:VCALENDAR