BEGIN:VCALENDAR
VERSION:2.0
PRODID:-//Alabama Water Watch - ECPv6.15.20//NONSGML v1.0//EN
CALSCALE:GREGORIAN
METHOD:PUBLISH
X-WR-CALNAME:Alabama Water Watch
X-ORIGINAL-URL:https://aaes.auburn.edu/alabamawaterwatch
X-WR-CALDESC:Events for Alabama Water Watch
REFRESH-INTERVAL;VALUE=DURATION:PT1H
X-Robots-Tag:noindex
X-PUBLISHED-TTL:PT1H
BEGIN:VTIMEZONE
TZID:America/Chicago
BEGIN:DAYLIGHT
TZOFFSETFROM:-0600
TZOFFSETTO:-0500
TZNAME:CDT
DTSTART:20180311T080000
END:DAYLIGHT
BEGIN:STANDARD
TZOFFSETFROM:-0500
TZOFFSETTO:-0600
TZNAME:CST
DTSTART:20181104T070000
END:STANDARD
BEGIN:DAYLIGHT
TZOFFSETFROM:-0600
TZOFFSETTO:-0500
TZNAME:CDT
DTSTART:20190310T080000
END:DAYLIGHT
BEGIN:STANDARD
TZOFFSETFROM:-0500
TZOFFSETTO:-0600
TZNAME:CST
DTSTART:20191103T070000
END:STANDARD
BEGIN:DAYLIGHT
TZOFFSETFROM:-0600
TZOFFSETTO:-0500
TZNAME:CDT
DTSTART:20200308T080000
END:DAYLIGHT
BEGIN:STANDARD
TZOFFSETFROM:-0500
TZOFFSETTO:-0600
TZNAME:CST
DTSTART:20201101T070000
END:STANDARD
END:VTIMEZONE
BEGIN:VEVENT
DTSTART;TZID=America/Chicago:20190315T080000
DTEND;TZID=America/Chicago:20190317T170000
DTSTAMP:20260421T203324
CREATED:20190118T093616Z
LAST-MODIFIED:20190118T093616Z
UID:4165-1552636800-1552842000@aaes.auburn.edu
SUMMARY:Alabama Rivers Alliance Water Rally 2019
DESCRIPTION:When: March 15-17 \nWhere: Camp Beckwith in Fairhope\, AL \nEvent Host: Alabama Rivers Alliance \nEvent Website: https://alabamarivers.org/?event=alabama-water-rally-2019 \nAlabama Water Rally is the annual gathering of Alabama’s network of water advocates and allies hosted by the Alabama Rivers Alliance. This is an educational\, networking and celebratory event for community and watershed based organizations as well as individual Alabamians interested in #CleanWater and protection of all our waterways. The conference moves to different regions of the state each year so that it is accessible to citizens and groups from all parts of Alabama. In 2019\, we escape together to Camp Beckwith in beautiful Fairhope\, Alabama. \nDr. Bill Deutsch will be the keynote speaker at Alabama Water Rally. He will inspire with a presentation from his new book\, Alabama Rivers\, A Celebration and Challenge. \nCheck website for registration and lodging details and fees. \nCLICK HERE FOR 2019 ALABAMA WATER RALLY REGISTRATION
URL:https://aaes.auburn.edu/alabamawaterwatch/event/alabama-rivers-alliance-water-rally-2019/
LOCATION:Camp Beckwith\, 10400 Beckwith Lane\, Fairhope\, AL\, 36532\, United States
ORGANIZER;CN="Alabama Rivers Alliance":MAILTO:info@alabamarivers.org
END:VEVENT
END:VCALENDAR