BEGIN:VCALENDAR
VERSION:2.0
PRODID:-//Alabama Water Watch - ECPv6.15.20//NONSGML v1.0//EN
CALSCALE:GREGORIAN
METHOD:PUBLISH
X-WR-CALNAME:Alabama Water Watch
X-ORIGINAL-URL:https://aaes.auburn.edu/alabamawaterwatch
X-WR-CALDESC:Events for Alabama Water Watch
REFRESH-INTERVAL;VALUE=DURATION:PT1H
X-Robots-Tag:noindex
X-PUBLISHED-TTL:PT1H
BEGIN:VTIMEZONE
TZID:America/Chicago
BEGIN:DAYLIGHT
TZOFFSETFROM:-0600
TZOFFSETTO:-0500
TZNAME:CDT
DTSTART:20170312T080000
END:DAYLIGHT
BEGIN:STANDARD
TZOFFSETFROM:-0500
TZOFFSETTO:-0600
TZNAME:CST
DTSTART:20171105T070000
END:STANDARD
BEGIN:DAYLIGHT
TZOFFSETFROM:-0600
TZOFFSETTO:-0500
TZNAME:CDT
DTSTART:20180311T080000
END:DAYLIGHT
BEGIN:STANDARD
TZOFFSETFROM:-0500
TZOFFSETTO:-0600
TZNAME:CST
DTSTART:20181104T070000
END:STANDARD
BEGIN:DAYLIGHT
TZOFFSETFROM:-0600
TZOFFSETTO:-0500
TZNAME:CDT
DTSTART:20190310T080000
END:DAYLIGHT
BEGIN:STANDARD
TZOFFSETFROM:-0500
TZOFFSETTO:-0600
TZNAME:CST
DTSTART:20191103T070000
END:STANDARD
END:VTIMEZONE
BEGIN:VEVENT
DTSTART;VALUE=DATE:20180905
DTEND;VALUE=DATE:20180908
DTSTAMP:20260425T215112
CREATED:20180619T111224Z
LAST-MODIFIED:20180619T111224Z
UID:3847-1536105600-1536364799@aaes.auburn.edu
SUMMARY:Alabama Water Resources Symposium and Conference
DESCRIPTION:September 5-7 \nPerdido Beach Resort\, Orange Beach\, AL \nThe Annual Alabama Water Resources Conference is a forum for all participants of our water resources community\, providing opportunities for conversation about the many multidisciplinary aspects of water resources\, and making connections that will improve how we understand the complex water issues that are of importance to this state\, the region\, and the nation. The Conference Planning Committee encourages you to join in the dialogue. The event is not hosted by Alabama Water Watch. \nThe deadline to submit abstracts is 5pm June 29\, 2018. \nYou can register for the conference or submit a presentation abstract on the Conference website: http://aaes.auburn.edu/wrc/extension-outreach/awrc-conference/ 
URL:https://aaes.auburn.edu/alabamawaterwatch/event/alabama-water-resources-symposium-and-conference/
LOCATION:Perdido Beach Resort\, 27200 Perdido Beach Blvd.\, Orange Beach\, AL\, United States
ORGANIZER;CN="Alabama Section of the American Water Resources Association":MAILTO:gmarodis@alruralwater.com
GEO:30.2736281;-87.5615235
X-APPLE-STRUCTURED-LOCATION;VALUE=URI;X-ADDRESS=Perdido Beach Resort 27200 Perdido Beach Blvd. Orange Beach AL United States;X-APPLE-RADIUS=500;X-TITLE=27200 Perdido Beach Blvd.:geo:-87.5615235,30.2736281
END:VEVENT
END:VCALENDAR